BEGIN:VCALENDAR
VERSION:2.0
PRODID:-//mrlib.org//NONSGML kigkonsult.se iCalcreator 2.30.10//
CALSCALE:GREGORIAN
METHOD:PUBLISH
UID:b98c39a4-dcc5-40b0-9f71-a911a5e943da
X-WR-CALDESC:Children of all ages and their caregivers will enjoy reading\,
  singing\, and dancing with the Chick-fil-A Cow! Bring your camera for a c
 hance to take a picture after the Story Time.
X-WR-RELCALID:ee7921e747453d2bd221f7f6fc2de5e0
X-WR-TIMEZONE:America/New_York
BEGIN:VTIMEZONE
TZID:America/New_York
BEGIN:STANDARD
TZNAME:EST
DTSTART:20241103T020000
TZOFFSETFROM:-0400
TZOFFSETTO:-0500
RDATE:20251102T020000
RDATE:20261101T020000
END:STANDARD
BEGIN:DAYLIGHT
TZNAME:EDT
DTSTART:20250309T020000
TZOFFSETFROM:-0500
TZOFFSETTO:-0400
RDATE:20260308T020000
END:DAYLIGHT
END:VTIMEZONE
BEGIN:VEVENT
UID:7d92318e-3339-4bb7-b18e-734f762e178b
DTSTAMP:20260420T025047Z
DESCRIPTION:Children of all ages and their caregivers will enjoy reading\, 
 singing\, and dancing with the Chick-fil-A Cow! Bring your camera for a ch
 ance to take a picture after the Story Time.
DTSTART;TZID=America/New_York:20250619T100000
DTEND;TZID=America/New_York:20250619T103000
LOCATION:Village Library\, 175 N. Main Street\, Broadway\, VA 22815 US
SUMMARY:Story Time with the Chick-fil-A Cow @Village Library
END:VEVENT
END:VCALENDAR
