BEGIN:VCALENDAR
VERSION:2.0
PRODID:-//mrlib.org//NONSGML kigkonsult.se iCalcreator 2.30.10//
CALSCALE:GREGORIAN
METHOD:PUBLISH
UID:57a42ed2-6cf9-43ed-9da9-e7e9bff3b078
X-WR-CALDESC:Join us for Story Time with police officers from the Harrisonb
 urg Police Department! We'll read books\, sing songs\, learn safety tips\,
  and check out actual police vehicles.
X-WR-RELCALID:ac34da2ad156114e92196f3349a6a864
X-WR-TIMEZONE:America/New_York
BEGIN:VTIMEZONE
TZID:America/New_York
BEGIN:STANDARD
TZNAME:EST
DTSTART:20241103T020000
TZOFFSETFROM:-0400
TZOFFSETTO:-0500
RDATE:20251102T020000
RDATE:20261101T020000
END:STANDARD
BEGIN:DAYLIGHT
TZNAME:EDT
DTSTART:20250309T020000
TZOFFSETFROM:-0500
TZOFFSETTO:-0400
RDATE:20260308T020000
END:DAYLIGHT
END:VTIMEZONE
BEGIN:VEVENT
UID:d35fda41-2264-42ce-b833-04cbf38db394
DTSTAMP:20260420T024911Z
DESCRIPTION:Join us for Story Time with police officers from the Harrisonbu
 rg Police Department! We'll read books\, sing songs\, learn safety tips\, 
 and check out actual police vehicles.
DTSTART;TZID=America/New_York:20250619T110000
DTEND;TZID=America/New_York:20250619T120000
LOCATION:Central Library\, 174 S. Main St.\, Harrisonburg\, VA 22801 US
SUMMARY:Police Officer Story Time @Central Library
END:VEVENT
END:VCALENDAR
