BEGIN:VCALENDAR
VERSION:2.0
PRODID:-//mrlib.org//NONSGML kigkonsult.se iCalcreator 2.30.10//
CALSCALE:GREGORIAN
METHOD:PUBLISH
UID:0bd0c96e-e2b3-497e-97b0-a3b7e8c29949
X-WR-CALDESC:Let your curiosity go wild while conducting exciting science e
 xperiments! Super Science is geared towards kindergarten through 5th grade
  youth.
X-WR-RELCALID:64aeceb092288e289e8b44531a744674
X-WR-TIMEZONE:America/New_York
BEGIN:VTIMEZONE
TZID:America/New_York
BEGIN:STANDARD
TZNAME:EST
DTSTART:20241103T020000
TZOFFSETFROM:-0400
TZOFFSETTO:-0500
RDATE:20251102T020000
RDATE:20261101T020000
END:STANDARD
BEGIN:DAYLIGHT
TZNAME:EDT
DTSTART:20250309T020000
TZOFFSETFROM:-0500
TZOFFSETTO:-0400
RDATE:20260308T020000
END:DAYLIGHT
END:VTIMEZONE
BEGIN:VEVENT
UID:7781edaa-6345-4f51-bcad-5ed32942b111
DTSTAMP:20260420T023945Z
DESCRIPTION:Let your curiosity go wild while conducting exciting science ex
 periments! Super Science is geared towards kindergarten through 5th grade 
 youth.
DTSTART;TZID=America/New_York:20250619T160000
DTEND;TZID=America/New_York:20250619T170000
LOCATION:174 S. Main St.\, Harrisonburg\, VA 22801 US
SUMMARY:Super Science @ Central Library
END:VEVENT
END:VCALENDAR
