BEGIN:VCALENDAR
VERSION:2.0
PRODID:-//mrlib.org//NONSGML kigkonsult.se iCalcreator 2.30.10//
CALSCALE:GREGORIAN
METHOD:PUBLISH
UID:1027b218-924e-4509-a9ac-ed620c8d40a6
X-WR-CALDESC:K-5 kids: drop in to Page Public Library between 2 and 4 PM fo
 r a fun jewelry-making program led by Miss Stephani! We welcome all skill 
 levels.
X-WR-RELCALID:0c54a96cf057268acdd738be20e2e812
X-WR-TIMEZONE:America/New_York
BEGIN:VTIMEZONE
TZID:America/New_York
BEGIN:STANDARD
TZNAME:EST
DTSTART:20241103T020000
TZOFFSETFROM:-0400
TZOFFSETTO:-0500
RDATE:20251102T020000
RDATE:20261101T020000
END:STANDARD
BEGIN:DAYLIGHT
TZNAME:EDT
DTSTART:20250309T020000
TZOFFSETFROM:-0500
TZOFFSETTO:-0400
RDATE:20260308T020000
END:DAYLIGHT
END:VTIMEZONE
BEGIN:VEVENT
UID:13739b67-c3ae-41b7-bfb9-719ea46a4942
DTSTAMP:20260420T023945Z
DESCRIPTION:K-5 kids: drop in to Page Public Library between 2 and 4 PM for
  a fun jewelry-making program led by Miss Stephani! We welcome all skill l
 evels.
DTSTART;TZID=America/New_York:20250619T140000
DTEND;TZID=America/New_York:20250619T160000
LOCATION:Page Public Library\, 100 Zerkel Street\, Luray\, VA 22835 US
SUMMARY:Jewelry Making @Page Public Library
END:VEVENT
END:VCALENDAR
