BEGIN:VCALENDAR
VERSION:2.0
PRODID:-//mrlib.org//NONSGML kigkonsult.se iCalcreator 2.30.10//
CALSCALE:GREGORIAN
METHOD:PUBLISH
UID:33eac934-94c0-4509-986f-7483a58ad439
X-WR-CALDESC:Youth (birth to 17) participating in our Summer Reading Challe
 nge can use their Free Friday wristbands to gain FREE admission to Luray C
 averns! Explore the wonders of Earth's underground beauty. \n\nAdmission i
 ncludes:\n- The Luray Caverns self-guided tour\n- The Car & Carriage Carav
 an Museum\n- Shenandoah Heritage Village\n- Toy Town Junction.\n\nYouth an
 d adults without wristbands must pay the regular admission price!
X-WR-RELCALID:3475efc663af56e486e4442fe0a2509c
X-WR-TIMEZONE:America/New_York
BEGIN:VTIMEZONE
TZID:America/New_York
BEGIN:STANDARD
TZNAME:EST
DTSTART:20241103T020000
TZOFFSETFROM:-0400
TZOFFSETTO:-0500
RDATE:20251102T020000
RDATE:20261101T020000
END:STANDARD
BEGIN:DAYLIGHT
TZNAME:EDT
DTSTART:20250309T020000
TZOFFSETFROM:-0500
TZOFFSETTO:-0400
RDATE:20260308T020000
END:DAYLIGHT
END:VTIMEZONE
BEGIN:VEVENT
UID:5b760fd7-d06a-4d41-804f-a903acc0657f
DTSTAMP:20260420T023902Z
DESCRIPTION:Youth (birth to 17) participating in our Summer Reading Challen
 ge can use their Free Friday wristbands to gain FREE admission to Luray Ca
 verns! Explore the wonders of Earth's underground beauty. \n\nAdmission in
 cludes:\n- The Luray Caverns self-guided tour\n- The Car & Carriage Carava
 n Museum\n- Shenandoah Heritage Village\n- Toy Town Junction.\n\nYouth and
  adults without wristbands must pay the regular admission price!
DTSTART;TZID=America/New_York:20250620T090000
DTEND;TZID=America/New_York:20250620T190000
LOCATION:Luray Caverns\, 101 Cave Hill Rd\, Luray\, VA 22835 US
SUMMARY:Free Friday @Luray Caverns
END:VEVENT
END:VCALENDAR
