BEGIN:VCALENDAR
VERSION:2.0
PRODID:-//mrlib.org//NONSGML kigkonsult.se iCalcreator 2.30.10//
CALSCALE:GREGORIAN
METHOD:PUBLISH
UID:e4da3406-36b3-4a24-9eb0-7befe82582d4
X-WR-CALDESC:K-5 kids: get ready to explore the great outdoors from the com
 fort of the library! You'll learn about our national and state parks\, how
  to read a map\, identify local plants and animals\, and test your skills 
 like a Junior Ranger.
X-WR-RELCALID:85a7e0674c5def2ae9d7bc4b6acfd1f8
X-WR-TIMEZONE:America/New_York
BEGIN:VTIMEZONE
TZID:America/New_York
BEGIN:STANDARD
TZNAME:EST
DTSTART:20241103T020000
TZOFFSETFROM:-0400
TZOFFSETTO:-0500
RDATE:20251102T020000
RDATE:20261101T020000
END:STANDARD
BEGIN:DAYLIGHT
TZNAME:EDT
DTSTART:20250309T020000
TZOFFSETFROM:-0500
TZOFFSETTO:-0400
RDATE:20260308T020000
END:DAYLIGHT
END:VTIMEZONE
BEGIN:VEVENT
UID:a1e4ea0b-07f3-438a-a148-9c52f5390e4d
DTSTAMP:20260420T023803Z
DESCRIPTION:K-5 kids: get ready to explore the great outdoors from the comf
 ort of the library! You'll learn about our national and state parks\, how 
 to read a map\, identify local plants and animals\, and test your skills l
 ike a Junior Ranger.
DTSTART;TZID=America/New_York:20250621T130000
DTEND;TZID=America/New_York:20250621T140000
LOCATION:Central Library\, 174 S. Main Street\, Harrisonburg\, VA 22801 US
SUMMARY:Pathway to Your Parks @Central Library
END:VEVENT
END:VCALENDAR
