BEGIN:VCALENDAR
VERSION:2.0
PRODID:-//mrlib.org//NONSGML kigkonsult.se iCalcreator 2.30.10//
CALSCALE:GREGORIAN
METHOD:PUBLISH
UID:2d7aa99f-6cd8-44f8-bec3-0bb65b74b02a
X-WR-CALDESC:All ages: June is the perfect time to begin planning your fall
  garden\, so join us at Shenandoah Community Library to learn what you sho
 uld plant\, when to plant it\, and what you should expect at harvest with 
 gardening enthusiast Lauren Allen!
X-WR-RELCALID:d2d629d7a4b420f276e8719b0851cce2
X-WR-TIMEZONE:America/New_York
BEGIN:VTIMEZONE
TZID:America/New_York
BEGIN:STANDARD
TZNAME:EST
DTSTART:20241103T020000
TZOFFSETFROM:-0400
TZOFFSETTO:-0500
RDATE:20251102T020000
RDATE:20261101T020000
END:STANDARD
BEGIN:DAYLIGHT
TZNAME:EDT
DTSTART:20250309T020000
TZOFFSETFROM:-0500
TZOFFSETTO:-0400
RDATE:20260308T020000
END:DAYLIGHT
END:VTIMEZONE
BEGIN:VEVENT
UID:a38a1242-03e9-4824-a53d-70d8e7425c1f
DTSTAMP:20260420T024313Z
DESCRIPTION:All ages: June is the perfect time to begin planning your fall 
 garden\, so join us at Shenandoah Community Library to learn what you shou
 ld plant\, when to plant it\, and what you should expect at harvest with g
 ardening enthusiast Lauren Allen!
DTSTART;TZID=America/New_York:20250621T100000
DTEND;TZID=America/New_York:20250621T120000
LOCATION:Shenandoah Community Library\, 418 S. Third Street\, Shenandoah\, 
 VA 22849 US
SUMMARY:Planning and Planting a Fall Garden @Shenandoah Community Library
END:VEVENT
END:VCALENDAR
