BEGIN:VCALENDAR
VERSION:2.0
PRODID:-//mrlib.org//NONSGML kigkonsult.se iCalcreator 2.30.10//
CALSCALE:GREGORIAN
METHOD:PUBLISH
UID:8f54f2e1-c195-4997-a8c6-a751b9acc60a
X-WR-CALDESC:Children of all ages and their caregivers will enjoy books and
  songs with players from the Harrisonburg Turks Baseball team! Bring your 
 baseball and autograph book to collect player signatures.
X-WR-RELCALID:01a4dc77cbbcfb734967e6bc42977b13
X-WR-TIMEZONE:America/New_York
BEGIN:VTIMEZONE
TZID:America/New_York
BEGIN:STANDARD
TZNAME:EST
DTSTART:20241103T020000
TZOFFSETFROM:-0400
TZOFFSETTO:-0500
RDATE:20251102T020000
RDATE:20261101T020000
END:STANDARD
BEGIN:DAYLIGHT
TZNAME:EDT
DTSTART:20250309T020000
TZOFFSETFROM:-0500
TZOFFSETTO:-0400
RDATE:20260308T020000
END:DAYLIGHT
END:VTIMEZONE
BEGIN:VEVENT
UID:6c4d785f-4837-49b6-aecb-2303d34e7dd5
DTSTAMP:20260420T025712Z
DESCRIPTION:Children of all ages and their caregivers will enjoy books and 
 songs with players from the Harrisonburg Turks Baseball team! Bring your b
 aseball and autograph book to collect player signatures.
DTSTART;TZID=America/New_York:20250623T103000
DTEND;TZID=America/New_York:20250623T113000
LOCATION:Elkton Community Library\, 106 North Terrace Avenue\, Elkton\, VA 
 22827 US
SUMMARY:Story Time with the Harrisonburg Turks @Elkton Community Library
END:VEVENT
END:VCALENDAR
