BEGIN:VCALENDAR
VERSION:2.0
PRODID:-//mrlib.org//NONSGML kigkonsult.se iCalcreator 2.30.10//
CALSCALE:GREGORIAN
METHOD:PUBLISH
UID:017c47d1-ddd4-4205-a7ac-0c52beb6d181
X-WR-CALDESC:Join us for a fun Story Time and scavenger hunt on the beautif
 ul grounds of the Luray Singing Tower!
X-WR-RELCALID:52ad762176f9a33258bc5e5f73ee5aeb
X-WR-TIMEZONE:America/New_York
BEGIN:VTIMEZONE
TZID:America/New_York
BEGIN:STANDARD
TZNAME:EST
DTSTART:20241103T020000
TZOFFSETFROM:-0400
TZOFFSETTO:-0500
RDATE:20251102T020000
RDATE:20261101T020000
END:STANDARD
BEGIN:DAYLIGHT
TZNAME:EDT
DTSTART:20250309T020000
TZOFFSETFROM:-0500
TZOFFSETTO:-0400
RDATE:20260308T020000
END:DAYLIGHT
END:VTIMEZONE
BEGIN:VEVENT
UID:521bdaa9-54b7-45af-b035-47915aa831b4
DTSTAMP:20260420T024107Z
DESCRIPTION:Join us for a fun Story Time and scavenger hunt on the beautifu
 l grounds of the Luray Singing Tower!
DTSTART;TZID=America/New_York:20250623T150000
DTEND;TZID=America/New_York:20250623T160000
LOCATION:The Luray Singing Tower\, Carillon Dr\, Luray\, VA 22835 US
SUMMARY:Nature Scavenger Hunt @Luray Singing Tower
END:VEVENT
END:VCALENDAR
