BEGIN:VCALENDAR
VERSION:2.0
PRODID:-//mrlib.org//NONSGML kigkonsult.se iCalcreator 2.30.10//
CALSCALE:GREGORIAN
METHOD:PUBLISH
UID:875d74b6-8d7d-45ed-aca5-4f7342df130b
X-WR-CALDESC:Kids ages 9 and younger: drop in to Shenandoah Community Libra
 ry between 2 PM and 6 PM to create your very own treasure map! We'll provi
 de all supplies - just bring your imagination.
X-WR-RELCALID:48e11488b91042db4c8dbacecea8e6af
X-WR-TIMEZONE:America/New_York
BEGIN:VTIMEZONE
TZID:America/New_York
BEGIN:STANDARD
TZNAME:EST
DTSTART:20241103T020000
TZOFFSETFROM:-0400
TZOFFSETTO:-0500
RDATE:20251102T020000
RDATE:20261101T020000
END:STANDARD
BEGIN:DAYLIGHT
TZNAME:EDT
DTSTART:20250309T020000
TZOFFSETFROM:-0500
TZOFFSETTO:-0400
RDATE:20260308T020000
END:DAYLIGHT
END:VTIMEZONE
BEGIN:VEVENT
UID:9684a923-fd16-401e-8770-705fc5edc4d2
DTSTAMP:20260420T023943Z
DESCRIPTION:Kids ages 9 and younger: drop in to Shenandoah Community Librar
 y between 2 PM and 6 PM to create your very own treasure map! We'll provid
 e all supplies - just bring your imagination.
DTSTART;TZID=America/New_York:20250624T140000
DTEND;TZID=America/New_York:20250624T180000
LOCATION:Shenandoah Community Library\, 418 S. Third Street\, Shenandoah\, 
 VA 22849 US
SUMMARY:Make a Treasure Map @Shenandoah Community Library
END:VEVENT
END:VCALENDAR
