BEGIN:VCALENDAR
VERSION:2.0
PRODID:-//mrlib.org//NONSGML kigkonsult.se iCalcreator 2.30.10//
CALSCALE:GREGORIAN
METHOD:PUBLISH
UID:50e279ae-9491-4b7b-8b49-b15f24a4a9ad
X-WR-CALDESC:Children of all ages and their caregivers will read books\, si
 ng songs\, and dance with the Chick-fil-A Cow! Bring your camera for the c
 hance to take a picture. \n
X-WR-RELCALID:40235e1d3e47899b6839de5e7be5b803
X-WR-TIMEZONE:America/New_York
BEGIN:VTIMEZONE
TZID:America/New_York
BEGIN:STANDARD
TZNAME:EST
DTSTART:20241103T020000
TZOFFSETFROM:-0400
TZOFFSETTO:-0500
RDATE:20251102T020000
RDATE:20261101T020000
END:STANDARD
BEGIN:DAYLIGHT
TZNAME:EDT
DTSTART:20250309T020000
TZOFFSETFROM:-0500
TZOFFSETTO:-0400
RDATE:20260308T020000
END:DAYLIGHT
END:VTIMEZONE
BEGIN:VEVENT
UID:76bbfbaa-dcba-42d2-b5c0-b17f53bebb6e
DTSTAMP:20260420T025046Z
DESCRIPTION:Children of all ages and their caregivers will read books\, sin
 g songs\, and dance with the Chick-fil-A Cow! Bring your camera for the ch
 ance to take a picture. \n
DTSTART;TZID=America/New_York:20250625T100000
DTEND;TZID=America/New_York:20250625T103000
LOCATION:Grottoes Branch Library\, 601 Dogwood Avenue\, Grottoes\, VA 24441
  US
SUMMARY:Story Time with the Chick-fil-A Cow @Grottoes Branch Library
END:VEVENT
END:VCALENDAR
