BEGIN:VCALENDAR
VERSION:2.0
PRODID:-//mrlib.org//NONSGML kigkonsult.se iCalcreator 2.30.10//
CALSCALE:GREGORIAN
METHOD:PUBLISH
UID:7816e166-71f1-4fca-8249-3b7146a2c115
X-WR-CALDESC:Children of all ages and their caregivers will enjoy learning 
 about fire safety from Firefighter Fiona\, a Fire and Life Safety Technici
 an with the Rockingham County Fire Department!
X-WR-RELCALID:e9d3e869965f8103df67dd68babff5bd
X-WR-TIMEZONE:America/New_York
BEGIN:VTIMEZONE
TZID:America/New_York
BEGIN:STANDARD
TZNAME:EST
DTSTART:20241103T020000
TZOFFSETFROM:-0400
TZOFFSETTO:-0500
RDATE:20251102T020000
RDATE:20261101T020000
END:STANDARD
BEGIN:DAYLIGHT
TZNAME:EDT
DTSTART:20250309T020000
TZOFFSETFROM:-0500
TZOFFSETTO:-0400
RDATE:20260308T020000
END:DAYLIGHT
END:VTIMEZONE
BEGIN:VEVENT
UID:92537313-3f96-405f-a087-dc006ec2768a
DTSTAMP:20260420T024951Z
DESCRIPTION:Children of all ages and their caregivers will enjoy learning a
 bout fire safety from Firefighter Fiona\, a Fire and Life Safety Technicia
 n with the Rockingham County Fire Department!
DTSTART;TZID=America/New_York:20250626T101500
DTEND;TZID=America/New_York:20250626T104500
LOCATION:North River Library\, 118 Mt. Crawford Avenue\, Bridgewater\, VA 2
 2812 US
SUMMARY:Story Time with Firefighter Fiona @North River Library
END:VEVENT
END:VCALENDAR
