BEGIN:VCALENDAR
VERSION:2.0
PRODID:-//mrlib.org//NONSGML kigkonsult.se iCalcreator 2.30.10//
CALSCALE:GREGORIAN
METHOD:PUBLISH
UID:2dec3202-b3f6-447f-b2b2-c72e12b66cf5
X-WR-CALDESC:Join us for a Story Time with firefighters from the Harrisonbu
 rg Fire Department! We'll read books\, sing songs\, learn fire safety\, an
 d check out firefighter uniforms and a real fire truck.
X-WR-RELCALID:56ef5ba113db974ad61c375f0064f4cf
X-WR-TIMEZONE:America/New_York
BEGIN:VTIMEZONE
TZID:America/New_York
BEGIN:STANDARD
TZNAME:EST
DTSTART:20241103T020000
TZOFFSETFROM:-0400
TZOFFSETTO:-0500
RDATE:20251102T020000
RDATE:20261101T020000
END:STANDARD
BEGIN:DAYLIGHT
TZNAME:EDT
DTSTART:20250309T020000
TZOFFSETFROM:-0500
TZOFFSETTO:-0400
RDATE:20260308T020000
END:DAYLIGHT
END:VTIMEZONE
BEGIN:VEVENT
UID:cb52f7ee-d23d-417a-8f18-5fdc30606558
DTSTAMP:20260420T024105Z
DESCRIPTION:Join us for a Story Time with firefighters from the Harrisonbur
 g Fire Department! We'll read books\, sing songs\, learn fire safety\, and
  check out firefighter uniforms and a real fire truck.
DTSTART;TZID=America/New_York:20250626T110000
DTEND;TZID=America/New_York:20250626T120000
LOCATION:Central Library\, 174 S. Main Street\, Harrisonburg\, VA 22801 US
SUMMARY:Firefighter Story Time @Central Library
END:VEVENT
END:VCALENDAR
