BEGIN:VCALENDAR
VERSION:2.0
PRODID:-//mrlib.org//NONSGML kigkonsult.se iCalcreator 2.30.10//
CALSCALE:GREGORIAN
METHOD:PUBLISH
UID:91f84a8b-6105-4cc4-9ffe-506c37aa95aa
X-WR-CALDESC:Drop by the library and build with Keva Planks. Explore what y
 ou can build and create with these fun\, simple planks! Keva Lab is geared
  towards kindergarten through 5th grade youth.
X-WR-RELCALID:afaa10253a7573de2928383695c47b10
X-WR-TIMEZONE:America/New_York
BEGIN:VTIMEZONE
TZID:America/New_York
BEGIN:STANDARD
TZNAME:EST
DTSTART:20241103T020000
TZOFFSETFROM:-0400
TZOFFSETTO:-0500
RDATE:20251102T020000
RDATE:20261101T020000
END:STANDARD
BEGIN:DAYLIGHT
TZNAME:EDT
DTSTART:20250309T020000
TZOFFSETFROM:-0500
TZOFFSETTO:-0400
RDATE:20260308T020000
END:DAYLIGHT
END:VTIMEZONE
BEGIN:VEVENT
UID:583384fd-d7f3-40ae-8eb4-fae2194e8d8a
DTSTAMP:20260420T024014Z
DESCRIPTION:Drop by the library and build with Keva Planks. Explore what yo
 u can build and create with these fun\, simple planks! Keva Lab is geared 
 towards kindergarten through 5th grade youth.
DTSTART;TZID=America/New_York:20250626T160000
DTEND;TZID=America/New_York:20250626T170000
LOCATION:174 S. Main St.\, Harrisonburg\, VA 22801 US
SUMMARY:Keva Lab @ Central Library
END:VEVENT
END:VCALENDAR
