BEGIN:VCALENDAR
VERSION:2.0
PRODID:-//mrlib.org//NONSGML kigkonsult.se iCalcreator 2.30.10//
CALSCALE:GREGORIAN
METHOD:PUBLISH
UID:e7729193-ef2f-4cc1-a51b-6952fbe67f2d
X-WR-CALDESC:Summer Reading Challenge participants (from birth to age 17) c
 an use their Free Friday wristbands to gain FREE admission to the Harrison
 burg Turks Baseball game! \n\nKids\, teens\, and adults without Free Frida
 y wristbands will be charged regular admission prices.
X-WR-RELCALID:822cdf7663f1a2f5ff03a96592315f95
X-WR-TIMEZONE:America/New_York
BEGIN:VTIMEZONE
TZID:America/New_York
BEGIN:STANDARD
TZNAME:EST
DTSTART:20241103T020000
TZOFFSETFROM:-0400
TZOFFSETTO:-0500
RDATE:20251102T020000
RDATE:20261101T020000
END:STANDARD
BEGIN:DAYLIGHT
TZNAME:EDT
DTSTART:20250309T020000
TZOFFSETFROM:-0500
TZOFFSETTO:-0400
RDATE:20260308T020000
END:DAYLIGHT
END:VTIMEZONE
BEGIN:VEVENT
UID:fc3d4d3f-0b72-430c-93cc-3068f556125d
DTSTAMP:20260420T024417Z
DESCRIPTION:Summer Reading Challenge participants (from birth to age 17) ca
 n use their Free Friday wristbands to gain FREE admission to the Harrisonb
 urg Turks Baseball game! \n\nKids\, teens\, and adults without Free Friday
  wristbands will be charged regular admission prices.
DTSTART;TZID=America/New_York:20250627T190000
DTEND;TZID=America/New_York:20250627T220000
LOCATION:Eagle Field at Veterans Memorial Park\, 270 Veterans Memorial Driv
 e\, Harrisonburg\, VA 22801 US
SUMMARY:Free Friday @Harrisonburg Turks Baseball Game
END:VEVENT
END:VCALENDAR
