BEGIN:VCALENDAR
VERSION:2.0
PRODID:-//mrlib.org//NONSGML kigkonsult.se iCalcreator 2.30.10//
CALSCALE:GREGORIAN
METHOD:PUBLISH
UID:54582526-e8f3-4f78-954d-8761dfba8325
X-WR-CALDESC:Families: exercise your creativity by building forts out of fu
 rniture\, tablecloths\, and more\, all supplied by us! We'll listen to a f
 un Story Time and then read together under our forts.
X-WR-RELCALID:d98b3767374d6ba94a4b2dd6e633020b
X-WR-TIMEZONE:America/New_York
BEGIN:VTIMEZONE
TZID:America/New_York
BEGIN:STANDARD
TZNAME:EST
DTSTART:20241103T020000
TZOFFSETFROM:-0400
TZOFFSETTO:-0500
RDATE:20251102T020000
RDATE:20261101T020000
END:STANDARD
BEGIN:DAYLIGHT
TZNAME:EDT
DTSTART:20250309T020000
TZOFFSETFROM:-0500
TZOFFSETTO:-0400
RDATE:20260308T020000
END:DAYLIGHT
END:VTIMEZONE
BEGIN:VEVENT
UID:8edb0b7d-637e-4aee-bb2c-4e6065f965b5
DTSTAMP:20260420T023902Z
DESCRIPTION:Families: exercise your creativity by building forts out of fur
 niture\, tablecloths\, and more\, all supplied by us! We'll listen to a fu
 n Story Time and then read together under our forts.
DTSTART;TZID=America/New_York:20250628T130000
DTEND;TZID=America/New_York:20250628T140000
LOCATION:Central Library\, 174 S. Main Street\, Harrisonburg\, VA 22801 US
SUMMARY:Build a Reading Fort @Central Library
END:VEVENT
END:VCALENDAR
