BEGIN:VCALENDAR
VERSION:2.0
PRODID:-//mrlib.org//NONSGML kigkonsult.se iCalcreator 2.30.10//
CALSCALE:GREGORIAN
METHOD:PUBLISH
UID:37b27e8c-df25-406e-914f-4c3a0dc5bb72
X-WR-CALDESC:Kids in Pre-K through elementary school: join Master Gardener 
 Cara Wainwright of the Central Shenandoah Valley Extension Master Gardener
 s for an interactive Story Time all about the parts of a plant! We'll enjo
 y stories\, a scavenger hunt\, and a themed activity.
X-WR-RELCALID:53d93bc48079e53b6e97c10a3ac87340
X-WR-TIMEZONE:America/New_York
BEGIN:VTIMEZONE
TZID:America/New_York
BEGIN:STANDARD
TZNAME:EST
DTSTART:20241103T020000
TZOFFSETFROM:-0400
TZOFFSETTO:-0500
RDATE:20251102T020000
RDATE:20261101T020000
END:STANDARD
BEGIN:DAYLIGHT
TZNAME:EDT
DTSTART:20250309T020000
TZOFFSETFROM:-0500
TZOFFSETTO:-0400
RDATE:20260308T020000
END:DAYLIGHT
END:VTIMEZONE
BEGIN:VEVENT
UID:c2e19314-e9b4-4f4d-b031-df9da2457f20
DTSTAMP:20260420T025847Z
DESCRIPTION:Kids in Pre-K through elementary school: join Master Gardener C
 ara Wainwright of the Central Shenandoah Valley Extension Master Gardeners
  for an interactive Story Time all about the parts of a plant! We'll enjoy
  stories\, a scavenger hunt\, and a themed activity.
DTSTART;TZID=America/New_York:20250628T110000
DTEND;TZID=America/New_York:20250628T120000
LOCATION:Village Library\, 175 N. Main Street\, Broadway\, VA 22815 US
SUMMARY:Parts of a Plant Story Time @Village Library
END:VEVENT
END:VCALENDAR
