BEGIN:VCALENDAR
VERSION:2.0
PRODID:-//mrlib.org//NONSGML kigkonsult.se iCalcreator 2.30.10//
CALSCALE:GREGORIAN
METHOD:PUBLISH
UID:ffcd7148-3dac-43aa-ba7e-972221d6c284
X-WR-CALDESC:Kids ages 0-5: join us for a fun morning as Miss Stephani lead
 s a garden-themed Story Time! A member of the Northern Shenandoah Valley M
 aster Gardeners will also give us a tour of the Community Garden.
X-WR-RELCALID:ce44ee73830e52774db5f09e3e0533f7
X-WR-TIMEZONE:America/New_York
BEGIN:VTIMEZONE
TZID:America/New_York
BEGIN:STANDARD
TZNAME:EST
DTSTART:20241103T020000
TZOFFSETFROM:-0400
TZOFFSETTO:-0500
RDATE:20251102T020000
RDATE:20261101T020000
END:STANDARD
BEGIN:DAYLIGHT
TZNAME:EDT
DTSTART:20250309T020000
TZOFFSETFROM:-0500
TZOFFSETTO:-0400
RDATE:20260308T020000
END:DAYLIGHT
END:VTIMEZONE
BEGIN:VEVENT
UID:7e7aad46-d555-45f3-959f-31afa716db93
DTSTAMP:20260420T025321Z
DESCRIPTION:Kids ages 0-5: join us for a fun morning as Miss Stephani leads
  a garden-themed Story Time! A member of the Northern Shenandoah Valley Ma
 ster Gardeners will also give us a tour of the Community Garden.
DTSTART;TZID=America/New_York:20250630T090000
DTEND;TZID=America/New_York:20250630T100000
LOCATION:Luray Community Garden at Page Memorial Hospital\, 200 Memorial Dr
 \, Luray\, VA 22835 US
SUMMARY:Community Garden Story Time @Page Memorial Hospital
END:VEVENT
END:VCALENDAR
