BEGIN:VCALENDAR
VERSION:2.0
PRODID:-//mrlib.org//NONSGML kigkonsult.se iCalcreator 2.30.10//
CALSCALE:GREGORIAN
METHOD:PUBLISH
UID:67bf207a-3fce-4716-86dd-7925ce01ef35
X-WR-CALDESC:Bring your kids to Shenandoah Community Library to celebrate I
 ndependence Day with patriotic crafts! We'll paint fun fireworks using Q-t
 ips\, forks\, and paper towel rolls. All materials will be provided - just
  bring your creativity!
X-WR-RELCALID:bac98199dbf9ffe61c963fe55a54f533
X-WR-TIMEZONE:America/New_York
BEGIN:VTIMEZONE
TZID:America/New_York
BEGIN:STANDARD
TZNAME:EST
DTSTART:20241103T020000
TZOFFSETFROM:-0400
TZOFFSETTO:-0500
RDATE:20251102T020000
RDATE:20261101T020000
END:STANDARD
BEGIN:DAYLIGHT
TZNAME:EDT
DTSTART:20250309T020000
TZOFFSETFROM:-0500
TZOFFSETTO:-0400
RDATE:20260308T020000
END:DAYLIGHT
END:VTIMEZONE
BEGIN:VEVENT
UID:beb20dbb-693f-46c6-821e-491ce175792b
DTSTAMP:20260420T005220Z
DESCRIPTION:Bring your kids to Shenandoah Community Library to celebrate In
 dependence Day with patriotic crafts! We'll paint fun fireworks using Q-ti
 ps\, forks\, and paper towel rolls. All materials will be provided - just 
 bring your creativity!
DTSTART;TZID=America/New_York:20250701T150000
DTEND;TZID=America/New_York:20250701T170000
LOCATION:Shenandoah Community Library\, 418 S. Third Street\, Shenandoah\, 
 VA 22849 US
SUMMARY:Red\, White\, & Boom! Patriotic Crafts @Shenandoah Community Librar
 y
END:VEVENT
END:VCALENDAR
