BEGIN:VCALENDAR
VERSION:2.0
PRODID:-//mrlib.org//NONSGML kigkonsult.se iCalcreator 2.30.10//
CALSCALE:GREGORIAN
METHOD:PUBLISH
UID:49692819-a0f6-45c8-9ad1-e93dc65d59b3
X-WR-CALDESC:Children of all ages and their caregivers will read books and 
 sing songs with players from the Harrisonburg Turks Baseball team! Bring y
 our baseball and autograph book to collect player signatures. \n
X-WR-RELCALID:aa02e9d309988fbbfd334a9da05b3b7c
X-WR-TIMEZONE:America/New_York
BEGIN:VTIMEZONE
TZID:America/New_York
BEGIN:STANDARD
TZNAME:EST
DTSTART:20241103T020000
TZOFFSETFROM:-0400
TZOFFSETTO:-0500
RDATE:20251102T020000
RDATE:20261101T020000
END:STANDARD
BEGIN:DAYLIGHT
TZNAME:EDT
DTSTART:20250309T020000
TZOFFSETFROM:-0500
TZOFFSETTO:-0400
RDATE:20260308T020000
END:DAYLIGHT
END:VTIMEZONE
BEGIN:VEVENT
UID:c7346e1d-1218-48eb-8802-6f324ea04e42
DTSTAMP:20260420T005655Z
DESCRIPTION:Children of all ages and their caregivers will read books and s
 ing songs with players from the Harrisonburg Turks Baseball team! Bring yo
 ur baseball and autograph book to collect player signatures. \n
DTSTART;TZID=America/New_York:20250702T100000
DTEND;TZID=America/New_York:20250702T110000
LOCATION:Grottoes Branch Library\, 601 Dogwood Avenue\, Grottoes\, VA 24441
  US
SUMMARY:Story Time with the Harrisonburg Turks @Grottoes Branch Library
END:VEVENT
END:VCALENDAR
