BEGIN:VCALENDAR
VERSION:2.0
PRODID:-//mrlib.org//NONSGML kigkonsult.se iCalcreator 2.30.10//
CALSCALE:GREGORIAN
METHOD:PUBLISH
UID:bcbd0d1e-e7e6-4f31-b33a-c3aad8a2879f
X-WR-CALDESC:Children of all ages and their caregivers will enjoy reading\,
  singing\, and dancing with the Chick-fil-A cow! Bring your camera for a c
 hance to take a picture with the cow after the Story Time.
X-WR-RELCALID:e56992107655c23c8e628bf41c16785a
X-WR-TIMEZONE:America/New_York
BEGIN:VTIMEZONE
TZID:America/New_York
BEGIN:STANDARD
TZNAME:EST
DTSTART:20241103T020000
TZOFFSETFROM:-0400
TZOFFSETTO:-0500
RDATE:20251102T020000
RDATE:20261101T020000
END:STANDARD
BEGIN:DAYLIGHT
TZNAME:EDT
DTSTART:20250309T020000
TZOFFSETFROM:-0500
TZOFFSETTO:-0400
RDATE:20260308T020000
END:DAYLIGHT
END:VTIMEZONE
BEGIN:VEVENT
UID:41c878e0-0dce-4f76-807c-681363de135b
DTSTAMP:20260420T005534Z
DESCRIPTION:Children of all ages and their caregivers will enjoy reading\, 
 singing\, and dancing with the Chick-fil-A cow! Bring your camera for a ch
 ance to take a picture with the cow after the Story Time.
DTSTART;TZID=America/New_York:20250703T101500
DTEND;TZID=America/New_York:20250703T104500
LOCATION:North River Library\, 118 Mt. Crawford Avenue\, Bridgewater\, VA 2
 2812 US
SUMMARY:Story Time with the Chick-fil-A Cow @North River Library
END:VEVENT
END:VCALENDAR
