BEGIN:VCALENDAR
VERSION:2.0
PRODID:-//mrlib.org//NONSGML kigkonsult.se iCalcreator 2.30.10//
CALSCALE:GREGORIAN
METHOD:PUBLISH
UID:dafe113f-cbc8-41ec-9e7c-daba82b3ab78
X-WR-CALDESC:Read stories with Valley Creative Reuse and learn about reduci
 ng\, reusing\, and recycling the objects all around us!\n\nValley Creative
  Reuse is an arts and crafts thrift store offering traditional and non-tra
 ditional craft supplies with a commitment to sustainability\, accessibilit
 y\, community\, creativity\, and joy.
X-WR-RELCALID:e663e3a7398aef0bbdba615abf4a4ea9
X-WR-TIMEZONE:America/New_York
BEGIN:VTIMEZONE
TZID:America/New_York
BEGIN:STANDARD
TZNAME:EST
DTSTART:20241103T020000
TZOFFSETFROM:-0400
TZOFFSETTO:-0500
RDATE:20251102T020000
RDATE:20261101T020000
END:STANDARD
BEGIN:DAYLIGHT
TZNAME:EDT
DTSTART:20250309T020000
TZOFFSETFROM:-0500
TZOFFSETTO:-0400
RDATE:20260308T020000
END:DAYLIGHT
END:VTIMEZONE
BEGIN:VEVENT
UID:57ba0a0f-3de4-4b47-9390-df5c3c4088e2
DTSTAMP:20260420T005018Z
DESCRIPTION:Read stories with Valley Creative Reuse and learn about reducin
 g\, reusing\, and recycling the objects all around us!\n\nValley Creative 
 Reuse is an arts and crafts thrift store offering traditional and non-trad
 itional craft supplies with a commitment to sustainability\, accessibility
 \, community\, creativity\, and joy.
DTSTART;TZID=America/New_York:20250703T110000
DTEND;TZID=America/New_York:20250703T120000
LOCATION:Central Library\, 174 S. Main St.\, Harrisonburg\, VA 22801 US
SUMMARY:Story Time with Valley Creative Reuse @Central Library
END:VEVENT
END:VCALENDAR
