BEGIN:VCALENDAR
VERSION:2.0
PRODID:-//mrlib.org//NONSGML kigkonsult.se iCalcreator 2.30.10//
CALSCALE:GREGORIAN
METHOD:PUBLISH
UID:0fe5c116-ea2b-4ca0-8264-1eb25fa02c17
X-WR-CALDESC:Let your creativity loose with craft projects using a variety 
 of materials! Crafty Kids is geared towards children from kindergarten thr
 ough 5th grade.
X-WR-RELCALID:7e7f8f63e20fcad74355748703b233a7
X-WR-TIMEZONE:America/New_York
BEGIN:VTIMEZONE
TZID:America/New_York
BEGIN:STANDARD
TZNAME:EST
DTSTART:20241103T020000
TZOFFSETFROM:-0400
TZOFFSETTO:-0500
RDATE:20251102T020000
RDATE:20261101T020000
END:STANDARD
BEGIN:DAYLIGHT
TZNAME:EDT
DTSTART:20250309T020000
TZOFFSETFROM:-0500
TZOFFSETTO:-0400
RDATE:20260308T020000
END:DAYLIGHT
END:VTIMEZONE
BEGIN:VEVENT
UID:4900b4d7-29b4-4267-b7ab-08ddbcfe0011
DTSTAMP:20260420T004738Z
DESCRIPTION:Let your creativity loose with craft projects using a variety o
 f materials! Crafty Kids is geared towards children from kindergarten thro
 ugh 5th grade.
DTSTART;TZID=America/New_York:20250703T160000
DTEND;TZID=America/New_York:20250703T170000
LOCATION:Central Library\, 174 S. Main St.\, Harrisonburg\, VA 22801 US
SUMMARY:Crafty Kids @ Central Library
END:VEVENT
END:VCALENDAR
