BEGIN:VCALENDAR
VERSION:2.0
PRODID:-//mrlib.org//NONSGML kigkonsult.se iCalcreator 2.30.10//
CALSCALE:GREGORIAN
METHOD:PUBLISH
UID:9fc62a31-b98d-4e14-a34b-b3f7ba5dfef4
X-WR-CALDESC:Learn what veterinarians do with Dr. Micah Thompson of Anicira
 ! We'll read books\, sing songs\, and make a craft. Don't forget to bring 
 your favorite stuffed animal to enjoy the fun!
X-WR-RELCALID:91ab99187246cc872cfa98085530241f
X-WR-TIMEZONE:America/New_York
BEGIN:VTIMEZONE
TZID:America/New_York
BEGIN:STANDARD
TZNAME:EST
DTSTART:20241103T020000
TZOFFSETFROM:-0400
TZOFFSETTO:-0500
RDATE:20251102T020000
RDATE:20261101T020000
END:STANDARD
BEGIN:DAYLIGHT
TZNAME:EDT
DTSTART:20250309T020000
TZOFFSETFROM:-0500
TZOFFSETTO:-0400
RDATE:20260308T020000
END:DAYLIGHT
END:VTIMEZONE
BEGIN:VEVENT
UID:8a2d37f4-48a1-4a50-b7a3-163922ac4bfc
DTSTAMP:20260420T004603Z
DESCRIPTION:Learn what veterinarians do with Dr. Micah Thompson of Anicira!
  We'll read books\, sing songs\, and make a craft. Don't forget to bring y
 our favorite stuffed animal to enjoy the fun!
DTSTART;TZID=America/New_York:20250705T100000
DTEND;TZID=America/New_York:20250705T110000
LOCATION:Central Library\, 174 S. Main Street\, Harrisonburg\, VA 22801 US
SUMMARY:Tales & Tails with Anicira @Central Library
END:VEVENT
END:VCALENDAR
