BEGIN:VCALENDAR
VERSION:2.0
PRODID:-//mrlib.org//NONSGML kigkonsult.se iCalcreator 2.30.10//
CALSCALE:GREGORIAN
METHOD:PUBLISH
UID:860b3e5b-33e4-4af2-b83d-7d5b2ba62a0e
X-WR-CALDESC:Kids ages 5 and up: join us every 2nd Tuesday of the month for
  a drop-in program dedicated to STEAM (Science\, Technology\, Engineering\
 , Art\, and Math) creativity and free play!\n\nWe'll provide a ton of fun 
 activities\, including Legos\, keva planks\, Brainometry shape puzzles\, a
 nd art!
X-WR-RELCALID:314df9862d80dd80254af6f6df3a610b
X-WR-TIMEZONE:America/New_York
BEGIN:VTIMEZONE
TZID:America/New_York
BEGIN:STANDARD
TZNAME:EST
DTSTART:20241103T020000
TZOFFSETFROM:-0400
TZOFFSETTO:-0500
RDATE:20251102T020000
RDATE:20261101T020000
END:STANDARD
BEGIN:DAYLIGHT
TZNAME:EDT
DTSTART:20250309T020000
TZOFFSETFROM:-0500
TZOFFSETTO:-0400
RDATE:20260308T020000
END:DAYLIGHT
END:VTIMEZONE
BEGIN:VEVENT
UID:b1fd7cd0-4ba0-4421-a696-b8cc5d6ebbab
DTSTAMP:20260420T004429Z
DESCRIPTION:Kids ages 5 and up: join us every 2nd Tuesday of the month for 
 a drop-in program dedicated to STEAM (Science\, Technology\, Engineering\,
  Art\, and Math) creativity and free play!\n\nWe'll provide a ton of fun a
 ctivities\, including Legos\, keva planks\, Brainometry shape puzzles\, an
 d art!
DTSTART;TZID=America/New_York:20250708T140000
DTEND;TZID=America/New_York:20250708T170000
LOCATION:North River Library\, 118 Mt. Crawford Avenue\, Bridgewater\, VA 2
 2812 US
SUMMARY:Builders and Makers @North River Library
END:VEVENT
END:VCALENDAR
