BEGIN:VCALENDAR
VERSION:2.0
PRODID:-//mrlib.org//NONSGML kigkonsult.se iCalcreator 2.30.10//
CALSCALE:GREGORIAN
METHOD:PUBLISH
UID:890a111f-2ded-4ca7-84e4-d298284a19f7
X-WR-CALDESC:Put on your favorite pajamas and bring your best stuffed anima
 l friend for a bedtime-themed Story Time!
X-WR-RELCALID:8d64adcd9bf2d9769637f9aae3156ff8
X-WR-TIMEZONE:America/New_York
BEGIN:VTIMEZONE
TZID:America/New_York
BEGIN:STANDARD
TZNAME:EST
DTSTART:20241103T020000
TZOFFSETFROM:-0400
TZOFFSETTO:-0500
RDATE:20251102T020000
RDATE:20261101T020000
END:STANDARD
BEGIN:DAYLIGHT
TZNAME:EDT
DTSTART:20250309T020000
TZOFFSETFROM:-0500
TZOFFSETTO:-0400
RDATE:20260308T020000
END:DAYLIGHT
END:VTIMEZONE
BEGIN:VEVENT
UID:260d8fd5-a569-4f4f-8245-c817e1e72a46
DTSTAMP:20260420T004550Z
DESCRIPTION:Put on your favorite pajamas and bring your best stuffed animal
  friend for a bedtime-themed Story Time!
DTSTART;TZID=America/New_York:20250708T110000
DTEND;TZID=America/New_York:20250708T120000
LOCATION:Shenandoah Community Library\, 418 S. Third Street\, Shenandoah\, 
 VA 22849 US
SUMMARY:Sleepover Story Time @Shenandoah Community Library
END:VEVENT
END:VCALENDAR
