BEGIN:VCALENDAR
VERSION:2.0
PRODID:-//mrlib.org//NONSGML kigkonsult.se iCalcreator 2.30.10//
CALSCALE:GREGORIAN
METHOD:PUBLISH
UID:b8d28548-1ff0-4bbe-a7df-66240f33fa48
X-WR-CALDESC:Children of all ages and their caregivers will enjoy a Story T
 ime led by Grand Caverns Park Ranger Kelly Parkman! Learn about the unique
  rocks and features of Grand Caverns.  \n
X-WR-RELCALID:9c63b7caf1b5bd7ac868a1b4be701a60
X-WR-TIMEZONE:America/New_York
BEGIN:VTIMEZONE
TZID:America/New_York
BEGIN:STANDARD
TZNAME:EST
DTSTART:20241103T020000
TZOFFSETFROM:-0400
TZOFFSETTO:-0500
RDATE:20251102T020000
RDATE:20261101T020000
END:STANDARD
BEGIN:DAYLIGHT
TZNAME:EDT
DTSTART:20250309T020000
TZOFFSETFROM:-0500
TZOFFSETTO:-0400
RDATE:20260308T020000
END:DAYLIGHT
END:VTIMEZONE
BEGIN:VEVENT
UID:fd90f6b0-86d8-473a-8a94-b1d28dc5c545
DTSTAMP:20260420T005657Z
DESCRIPTION:Children of all ages and their caregivers will enjoy a Story Ti
 me led by Grand Caverns Park Ranger Kelly Parkman! Learn about the unique 
 rocks and features of Grand Caverns.  \n
DTSTART;TZID=America/New_York:20250709T100000
DTEND;TZID=America/New_York:20250709T103000
LOCATION:Grottoes Branch Library\, 601 Dogwood Avenue\, Grottoes\, VA 24441
  US
SUMMARY:CircleTime with Grand Caverns @Grottoes Branch Library
END:VEVENT
END:VCALENDAR
