BEGIN:VCALENDAR
VERSION:2.0
PRODID:-//mrlib.org//NONSGML kigkonsult.se iCalcreator 2.30.10//
CALSCALE:GREGORIAN
METHOD:PUBLISH
UID:dd75d04f-d986-45ef-a2f0-8ad502d2e2f1
X-WR-CALDESC:Kids ages 6-10: drop in any time between 12:30 and 4:00 PM to 
 make beautiful rainbow suncatchers\, butterflies\, flowers\, and more - us
 ing fun materials like coffee filters\, markers\, and spray bottles!
X-WR-RELCALID:037dc9bb1c541f8f9e473e207c5c7625
X-WR-TIMEZONE:America/New_York
BEGIN:VTIMEZONE
TZID:America/New_York
BEGIN:STANDARD
TZNAME:EST
DTSTART:20241103T020000
TZOFFSETFROM:-0400
TZOFFSETTO:-0500
RDATE:20251102T020000
RDATE:20261101T020000
END:STANDARD
BEGIN:DAYLIGHT
TZNAME:EDT
DTSTART:20250309T020000
TZOFFSETFROM:-0500
TZOFFSETTO:-0400
RDATE:20260308T020000
END:DAYLIGHT
END:VTIMEZONE
BEGIN:VEVENT
UID:3cdb54a9-a729-4225-931a-fe2c96579787
DTSTAMP:20260420T004416Z
DESCRIPTION:Kids ages 6-10: drop in any time between 12:30 and 4:00 PM to m
 ake beautiful rainbow suncatchers\, butterflies\, flowers\, and more - usi
 ng fun materials like coffee filters\, markers\, and spray bottles!
DTSTART;TZID=America/New_York:20250709T123000
DTEND;TZID=America/New_York:20250709T160000
LOCATION:Elkton Community Library\, 106 N. Terrace Avenue\, Elkton\, VA 228
 27 US
SUMMARY:Rainbow Suncatchers @Elkton Community Library
END:VEVENT
END:VCALENDAR
