BEGIN:VCALENDAR
VERSION:2.0
PRODID:-//mrlib.org//NONSGML kigkonsult.se iCalcreator 2.30.10//
CALSCALE:GREGORIAN
METHOD:PUBLISH
UID:3afdc223-8046-4f0f-994b-c36ccbafb737
X-WR-CALDESC:Children of all ages and their caregivers will learn about fir
 e safety from Firefighter Fiona of Rockingham County Fire and Rescue!
X-WR-RELCALID:8f9aa0b8790ada7824618cb6852aa59b
X-WR-TIMEZONE:America/New_York
BEGIN:VTIMEZONE
TZID:America/New_York
BEGIN:STANDARD
TZNAME:EST
DTSTART:20241103T020000
TZOFFSETFROM:-0400
TZOFFSETTO:-0500
RDATE:20251102T020000
RDATE:20261101T020000
END:STANDARD
BEGIN:DAYLIGHT
TZNAME:EDT
DTSTART:20250309T020000
TZOFFSETFROM:-0500
TZOFFSETTO:-0400
RDATE:20260308T020000
END:DAYLIGHT
END:VTIMEZONE
BEGIN:VEVENT
UID:fb296012-f066-4353-b271-cecfb4fe64be
DTSTAMP:20260420T005340Z
DESCRIPTION:Children of all ages and their caregivers will learn about fire
  safety from Firefighter Fiona of Rockingham County Fire and Rescue!
DTSTART;TZID=America/New_York:20250710T100000
DTEND;TZID=America/New_York:20250710T103000
LOCATION:Village Library\, 175 N. Main Street\, Broadway\, VA 22815 US
SUMMARY:Fire Safety Story Time @Village Library
END:VEVENT
END:VCALENDAR
