BEGIN:VCALENDAR
VERSION:2.0
PRODID:-//mrlib.org//NONSGML kigkonsult.se iCalcreator 2.30.10//
CALSCALE:GREGORIAN
METHOD:PUBLISH
UID:e9dc9a17-a095-4164-b73b-3518ccc68ea4
X-WR-CALDESC:Join the fun as we set up a variety of board games for all age
 s.
X-WR-RELCALID:29ab37c91b756e4c1281909ee53caf6f
X-WR-TIMEZONE:America/New_York
BEGIN:VTIMEZONE
TZID:America/New_York
BEGIN:STANDARD
TZNAME:EST
DTSTART:20241103T020000
TZOFFSETFROM:-0400
TZOFFSETTO:-0500
RDATE:20251102T020000
RDATE:20261101T020000
END:STANDARD
BEGIN:DAYLIGHT
TZNAME:EDT
DTSTART:20250309T020000
TZOFFSETFROM:-0500
TZOFFSETTO:-0400
RDATE:20260308T020000
END:DAYLIGHT
END:VTIMEZONE
BEGIN:VEVENT
UID:1800962c-98f7-41be-baed-1563d0acb841
DTSTAMP:20260420T005310Z
DESCRIPTION:Join the fun as we set up a variety of board games for all ages
 .
DTSTART;TZID=America/New_York:20250710T160000
DTEND;TZID=America/New_York:20250710T170000
LOCATION:601 Dogwood Ave\, Grottoes\, VA 24441 US
SUMMARY:Board Games @ Grottoes Branch Library
END:VEVENT
END:VCALENDAR
