BEGIN:VCALENDAR
VERSION:2.0
PRODID:-//mrlib.org//NONSGML kigkonsult.se iCalcreator 2.30.10//
CALSCALE:GREGORIAN
METHOD:PUBLISH
UID:fbbec686-6c76-449d-ba75-30d25fd794fe
X-WR-CALDESC:Let your imagination soar and develop engineering skills while
  building with LEGO blocks. LEGO Club is geared towards kindergarten throu
 gh 5th grade youth.
X-WR-RELCALID:52e16649b5f380e08c536e5e580e39aa
X-WR-TIMEZONE:America/New_York
BEGIN:VTIMEZONE
TZID:America/New_York
BEGIN:STANDARD
TZNAME:EST
DTSTART:20241103T020000
TZOFFSETFROM:-0400
TZOFFSETTO:-0500
RDATE:20251102T020000
RDATE:20261101T020000
END:STANDARD
BEGIN:DAYLIGHT
TZNAME:EDT
DTSTART:20250309T020000
TZOFFSETFROM:-0500
TZOFFSETTO:-0400
RDATE:20260308T020000
END:DAYLIGHT
END:VTIMEZONE
BEGIN:VEVENT
UID:7c1766bc-664c-4c6e-9aa2-d621c3d00ed2
DTSTAMP:20260420T004846Z
DESCRIPTION:Let your imagination soar and develop engineering skills while 
 building with LEGO blocks. LEGO Club is geared towards kindergarten throug
 h 5th grade youth.
DTSTART;TZID=America/New_York:20250710T160000
DTEND;TZID=America/New_York:20250710T170000
LOCATION:174 S. Main St.\, Harrisonburg\, VA 22801 US
SUMMARY:LEGO Club @ Central Library
END:VEVENT
END:VCALENDAR
