BEGIN:VCALENDAR
VERSION:2.0
PRODID:-//mrlib.org//NONSGML kigkonsult.se iCalcreator 2.30.10//
CALSCALE:GREGORIAN
METHOD:PUBLISH
UID:8359f7cb-d915-4183-85b4-223652dc65c1
X-WR-CALDESC:REGISTRATION IS FULL FOR THE EVENT\n\nAll ages will enjoy lear
 ning about animals and wildlife conservation with The Wildlife Center of V
 irginia! We'll get to observe three amazing animals in person\, so don't m
 iss out - click the 'Register Now' button to save your spot.
X-WR-RELCALID:05e717222c8224d1ab936ef32fb3d376
X-WR-TIMEZONE:America/New_York
BEGIN:VTIMEZONE
TZID:America/New_York
BEGIN:STANDARD
TZNAME:EST
DTSTART:20241103T020000
TZOFFSETFROM:-0400
TZOFFSETTO:-0500
RDATE:20251102T020000
RDATE:20261101T020000
END:STANDARD
BEGIN:DAYLIGHT
TZNAME:EDT
DTSTART:20250309T020000
TZOFFSETFROM:-0500
TZOFFSETTO:-0400
RDATE:20260308T020000
END:DAYLIGHT
END:VTIMEZONE
BEGIN:VEVENT
UID:5ddb5ec3-f9ef-4255-9ad8-ec13247004c7
DTSTAMP:20260420T005536Z
DESCRIPTION:REGISTRATION IS FULL FOR THE EVENT\n\nAll ages will enjoy learn
 ing about animals and wildlife conservation with The Wildlife Center of Vi
 rginia! We'll get to observe three amazing animals in person\, so don't mi
 ss out - click the 'Register Now' button to save your spot.
DTSTART;TZID=America/New_York:20250710T113000
DTEND;TZID=America/New_York:20250710T123000
LOCATION:Central Library\, 174 S. Main Street\, Harrisonburg\, VA 22801 US
SUMMARY:REGISTRATION FULL: The Wildlife Center of Virginia @Central Library
END:VEVENT
END:VCALENDAR
