BEGIN:VCALENDAR
VERSION:2.0
PRODID:-//mrlib.org//NONSGML kigkonsult.se iCalcreator 2.30.10//
CALSCALE:GREGORIAN
METHOD:PUBLISH
UID:b8e35de7-04da-459b-b261-af88b25c9364
X-WR-CALDESC:Children of all ages and their caregivers will enjoy a Story T
 ime led by Grand Caverns Park Ranger Kelly Parkman! Learn about the unique
  rocks and features of Grand Caverns.  \n
X-WR-RELCALID:284ff46b5607c552206aa68d0ae7e6ff
X-WR-TIMEZONE:America/New_York
BEGIN:VTIMEZONE
TZID:America/New_York
BEGIN:STANDARD
TZNAME:EST
DTSTART:20241103T020000
TZOFFSETFROM:-0400
TZOFFSETTO:-0500
RDATE:20251102T020000
RDATE:20261101T020000
END:STANDARD
BEGIN:DAYLIGHT
TZNAME:EDT
DTSTART:20250309T020000
TZOFFSETFROM:-0500
TZOFFSETTO:-0400
RDATE:20260308T020000
END:DAYLIGHT
END:VTIMEZONE
BEGIN:VEVENT
UID:2cdf9f45-ebbb-4834-aecb-46cc76ba62a1
DTSTAMP:20260420T004549Z
DESCRIPTION:Children of all ages and their caregivers will enjoy a Story Ti
 me led by Grand Caverns Park Ranger Kelly Parkman! Learn about the unique 
 rocks and features of Grand Caverns.  \n
DTSTART;TZID=America/New_York:20250710T101500
DTEND;TZID=America/New_York:20250710T104500
LOCATION:North River Library\, 118 Mt. Crawford Avenue\, Bridgewater\, VA 2
 2812 US
SUMMARY:Story Time with Grand Caverns @North River Library
END:VEVENT
END:VCALENDAR
