BEGIN:VCALENDAR
VERSION:2.0
PRODID:-//mrlib.org//NONSGML kigkonsult.se iCalcreator 2.30.10//
CALSCALE:GREGORIAN
METHOD:PUBLISH
UID:402e74c4-caf9-456d-96e2-0941013213cb
X-WR-CALDESC:Children of all ages and their caregivers will enjoy reading\,
  singing\, and dancing with the Chick-fil-A cow! Bring your camera for a c
 hance to take a picture with the cow after the Story Time.
X-WR-RELCALID:080586bc3af3b36a2baabf8d3bc1a356
X-WR-TIMEZONE:America/New_York
BEGIN:VTIMEZONE
TZID:America/New_York
BEGIN:STANDARD
TZNAME:EST
DTSTART:20241103T020000
TZOFFSETFROM:-0400
TZOFFSETTO:-0500
RDATE:20251102T020000
RDATE:20261101T020000
END:STANDARD
BEGIN:DAYLIGHT
TZNAME:EDT
DTSTART:20250309T020000
TZOFFSETFROM:-0500
TZOFFSETTO:-0400
RDATE:20260308T020000
END:DAYLIGHT
END:VTIMEZONE
BEGIN:VEVENT
UID:19a29acb-d575-4ba8-97df-8a0cadaea9e5
DTSTAMP:20260420T005015Z
DESCRIPTION:Children of all ages and their caregivers will enjoy reading\, 
 singing\, and dancing with the Chick-fil-A cow! Bring your camera for a ch
 ance to take a picture with the cow after the Story Time.
DTSTART;TZID=America/New_York:20250710T110000
DTEND;TZID=America/New_York:20250710T113000
LOCATION:Central Library\, 174 S. Main Street\, Harrisonburg\, VA 22801 US
SUMMARY:Story Time with the Chick-fil-A Cow @Central Library
END:VEVENT
END:VCALENDAR
