BEGIN:VCALENDAR
VERSION:2.0
PRODID:-//mrlib.org//NONSGML kigkonsult.se iCalcreator 2.30.10//
CALSCALE:GREGORIAN
METHOD:PUBLISH
UID:89bb90a5-860c-44d5-83fe-46db58684b37
X-WR-CALDESC:All ages will enjoy learning about animals and wildlife conser
 vation with The Wildlife Center of Virginia! We'll get to observe three am
 azing live animals.\n\nThe Wildlife Center of Virginia program at Page Pub
 lic Library is made possible through the generosity of the Virginia Moose 
 Association.
X-WR-RELCALID:b11e64402caebb5dfee9813b2db59dd0
X-WR-TIMEZONE:America/New_York
BEGIN:VTIMEZONE
TZID:America/New_York
BEGIN:STANDARD
TZNAME:EST
DTSTART:20241103T020000
TZOFFSETFROM:-0400
TZOFFSETTO:-0500
RDATE:20251102T020000
RDATE:20261101T020000
END:STANDARD
BEGIN:DAYLIGHT
TZNAME:EDT
DTSTART:20250309T020000
TZOFFSETFROM:-0500
TZOFFSETTO:-0400
RDATE:20260308T020000
END:DAYLIGHT
END:VTIMEZONE
BEGIN:VEVENT
UID:72b29ee2-9a33-40aa-ab9e-aef9b8c560e7
DTSTAMP:20260420T005535Z
DESCRIPTION:All ages will enjoy learning about animals and wildlife conserv
 ation with The Wildlife Center of Virginia! We'll get to observe three ama
 zing live animals.\n\nThe Wildlife Center of Virginia program at Page Publ
 ic Library is made possible through the generosity of the Virginia Moose A
 ssociation.
DTSTART;TZID=America/New_York:20250710T150000
DTEND;TZID=America/New_York:20250710T160000
LOCATION:Page Public Library\, 100 Zerkel Street\, Luray\, VA 22835 US
SUMMARY:The Wildlife Center of Virginia @Page Public Library
END:VEVENT
END:VCALENDAR
