BEGIN:VCALENDAR
VERSION:2.0
PRODID:-//mrlib.org//NONSGML kigkonsult.se iCalcreator 2.30.10//
CALSCALE:GREGORIAN
METHOD:PUBLISH
UID:76b112a4-828a-4dfb-8fc9-842bbd39c8fd
X-WR-CALDESC:Summer Reading Challenge participants (from birth to age 17) c
 an use their Free Friday wristbands to gain FREE admission to the Harrison
 burg Turks Baseball game! Kids\, teens\, and adults without Free Friday wr
 istbands will be charged regular admission prices. \n\nFirst Pitch Contest
 : \nEnter to win the chance to throw out the First Pitch at the Harrisonbu
 rg Turks Baseball game on Friday\, July 11th\, 2025! Before applying\, ple
 ase read the rules linked below to double-check eligibility. Entry forms c
 an be picked up from and returned to all of our seven branches by close of
  business on Saturday\, July 5th\, 2025. The winner will be randomly chose
 n from eligible entries and his or her contact information will be shared 
 with the Harrisonburg Turks' General Manager or designee.
X-WR-RELCALID:b1d0fa408712f04b18d7f394545852b1
X-WR-TIMEZONE:America/New_York
BEGIN:VTIMEZONE
TZID:America/New_York
BEGIN:STANDARD
TZNAME:EST
DTSTART:20241103T020000
TZOFFSETFROM:-0400
TZOFFSETTO:-0500
RDATE:20251102T020000
RDATE:20261101T020000
END:STANDARD
BEGIN:DAYLIGHT
TZNAME:EDT
DTSTART:20250309T020000
TZOFFSETFROM:-0500
TZOFFSETTO:-0400
RDATE:20260308T020000
END:DAYLIGHT
END:VTIMEZONE
BEGIN:VEVENT
UID:83e567ac-752e-458c-843d-e561b9924852
DTSTAMP:20260420T004828Z
DESCRIPTION:Summer Reading Challenge participants (from birth to age 17) ca
 n use their Free Friday wristbands to gain FREE admission to the Harrisonb
 urg Turks Baseball game! Kids\, teens\, and adults without Free Friday wri
 stbands will be charged regular admission prices. \n\nFirst Pitch Contest:
  \nEnter to win the chance to throw out the First Pitch at the Harrisonbur
 g Turks Baseball game on Friday\, July 11th\, 2025! Before applying\, plea
 se read the rules linked below to double-check eligibility. Entry forms ca
 n be picked up from and returned to all of our seven branches by close of 
 business on Saturday\, July 5th\, 2025. The winner will be randomly chosen
  from eligible entries and his or her contact information will be shared w
 ith the Harrisonburg Turks' General Manager or designee.
DTSTART;TZID=America/New_York:20250711T190000
DTEND;TZID=America/New_York:20250711T220000
LOCATION:Eagle Field at Veterans Memorial Park\, 270 Veterans Memorial Driv
 e\, Harrisonburg\, VA 22801 US
SUMMARY:Free Friday @Harrisonburg Turks Baseball Game
END:VEVENT
END:VCALENDAR
