BEGIN:VCALENDAR
VERSION:2.0
PRODID:-//mrlib.org//NONSGML kigkonsult.se iCalcreator 2.30.10//
CALSCALE:GREGORIAN
METHOD:PUBLISH
UID:9d119802-08c3-4ca6-83ed-5b70d7f54a57
X-WR-CALDESC:K-5 kids: join us every 2nd Saturday of the month for Dogs 2 R
 ead 2 (D2R2) at Shenandoah Community Library!\n\nDogs are wonderful listen
 ers and love to hear stories. D2R2 is a great chance for kids in grades K-
 5 to practice their reading skills with wonderful and well-behaved pups!
X-WR-RELCALID:e67bc9e83b7575b985d2ff7b798c9873
X-WR-TIMEZONE:America/New_York
BEGIN:VTIMEZONE
TZID:America/New_York
BEGIN:STANDARD
TZNAME:EST
DTSTART:20241103T020000
TZOFFSETFROM:-0400
TZOFFSETTO:-0500
RDATE:20251102T020000
RDATE:20261101T020000
END:STANDARD
BEGIN:DAYLIGHT
TZNAME:EDT
DTSTART:20250309T020000
TZOFFSETFROM:-0500
TZOFFSETTO:-0400
RDATE:20260308T020000
END:DAYLIGHT
END:VTIMEZONE
BEGIN:VEVENT
UID:f7f49f0b-c7ce-4a0f-8945-a74bd2dcdaad
DTSTAMP:20260420T005210Z
DESCRIPTION:K-5 kids: join us every 2nd Saturday of the month for Dogs 2 Re
 ad 2 (D2R2) at Shenandoah Community Library!\n\nDogs are wonderful listene
 rs and love to hear stories. D2R2 is a great chance for kids in grades K-5
  to practice their reading skills with wonderful and well-behaved pups!
DTSTART;TZID=America/New_York:20250712T100000
DTEND;TZID=America/New_York:20250712T110000
LOCATION:Shenandoah Community Library\, 418 S. Third Street\, Shenandoah\, 
 VA 22849 US
SUMMARY:Dogs 2 Read 2 @Shenandoah Community Library
END:VEVENT
END:VCALENDAR
