BEGIN:VCALENDAR
VERSION:2.0
PRODID:-//mrlib.org//NONSGML kigkonsult.se iCalcreator 2.30.10//
CALSCALE:GREGORIAN
METHOD:PUBLISH
UID:000c7b5b-db35-401f-b7cd-f66df7636424
X-WR-CALDESC:Kids ages 3 and up: explore the many types of insects that liv
 e in our pollinator garden! We'll have various stations located around Nor
 th River Library's beautiful butterfly garden for you to explore\, includi
 ng art and science activities.\n\nExploring the Diversity of Insects is Pa
 rt II of our 3-part Garden Series for Kids. Check out the last date below:
 \n\n- Part III: Exploring How Diverse Groups Use Plants in Their Cultures\
 , with special guest Sandy Parks - August 9th
X-WR-RELCALID:8b1d1050646d020b057e0a3dda4ea19d
X-WR-TIMEZONE:America/New_York
BEGIN:VTIMEZONE
TZID:America/New_York
BEGIN:STANDARD
TZNAME:EST
DTSTART:20241103T020000
TZOFFSETFROM:-0400
TZOFFSETTO:-0500
RDATE:20251102T020000
RDATE:20261101T020000
END:STANDARD
BEGIN:DAYLIGHT
TZNAME:EDT
DTSTART:20250309T020000
TZOFFSETFROM:-0500
TZOFFSETTO:-0400
RDATE:20260308T020000
END:DAYLIGHT
END:VTIMEZONE
BEGIN:VEVENT
UID:04060c4f-c142-498d-af68-b21acbf7f9f6
DTSTAMP:20260420T004546Z
DESCRIPTION:Kids ages 3 and up: explore the many types of insects that live
  in our pollinator garden! We'll have various stations located around Nort
 h River Library's beautiful butterfly garden for you to explore\, includin
 g art and science activities.\n\nExploring the Diversity of Insects is Par
 t II of our 3-part Garden Series for Kids. Check out the last date below:
 \n\n- Part III: Exploring How Diverse Groups Use Plants in Their Cultures\
 , with special guest Sandy Parks - August 9th
DTSTART;TZID=America/New_York:20250712T103000
DTEND;TZID=America/New_York:20250712T120000
LOCATION:North River Library\, 118 Mt. Crawford Avenue\, Bridgewater\, VA 2
 2812 US
SUMMARY:Exploring the Diversity of Insects @North River Library
END:VEVENT
END:VCALENDAR
