BEGIN:VCALENDAR
VERSION:2.0
PRODID:-//mrlib.org//NONSGML kigkonsult.se iCalcreator 2.30.10//
CALSCALE:GREGORIAN
METHOD:PUBLISH
UID:071b6fdc-7473-4024-bf5f-fa57bf8b6dea
X-WR-CALDESC:REGISTRATION IS FULL - email Denise Munro at dmunro@mrlib.org 
 to be placed on the waiting list. \n\nDo you enjoy puzzling? Are you compe
 titive? Bring the whole family and compete against other families to be th
 e first to complete a 750-piece puzzle (each family will receive the same 
 puzzle)!\n\nRegistration is required\, so click the 'Register Now' button 
 to save a spot for your family (only 1 registration/ticket required per fa
 mily).
X-WR-RELCALID:a0aa68a60aa429d4d1ce66d7ffe6e643
X-WR-TIMEZONE:America/New_York
BEGIN:VTIMEZONE
TZID:America/New_York
BEGIN:STANDARD
TZNAME:EST
DTSTART:20241103T020000
TZOFFSETFROM:-0400
TZOFFSETTO:-0500
RDATE:20251102T020000
RDATE:20261101T020000
END:STANDARD
BEGIN:DAYLIGHT
TZNAME:EDT
DTSTART:20250309T020000
TZOFFSETFROM:-0500
TZOFFSETTO:-0400
RDATE:20260308T020000
END:DAYLIGHT
END:VTIMEZONE
BEGIN:VEVENT
UID:8d5ec9a9-b913-4c21-ac9f-1e17ee8669c2
DTSTAMP:20260420T004734Z
DESCRIPTION:REGISTRATION IS FULL - email Denise Munro at dmunro@mrlib.org t
 o be placed on the waiting list. \n\nDo you enjoy puzzling? Are you compet
 itive? Bring the whole family and compete against other families to be the
  first to complete a 750-piece puzzle (each family will receive the same p
 uzzle)!\n\nRegistration is required\, so click the 'Register Now' button t
 o save a spot for your family (only 1 registration/ticket required per fam
 ily).
DTSTART;TZID=America/New_York:20250712T130000
DTEND;TZID=America/New_York:20250712T150000
LOCATION:Central Library\, 174 S. Main Street\, Harrisonburg\, VA 22801 US
SUMMARY:REGISTRATION FULL: Family Puzzle Race @Central Library
END:VEVENT
END:VCALENDAR
