BEGIN:VCALENDAR
VERSION:2.0
PRODID:-//mrlib.org//NONSGML kigkonsult.se iCalcreator 2.30.10//
CALSCALE:GREGORIAN
METHOD:PUBLISH
UID:48b84568-1778-4a9a-8f25-a078e174253b
X-WR-CALDESC:Children of all ages and their caregivers will enjoy a special
  Fire Safety Story Time with the Rockingham County Department of Fire & Re
 scue! We'll learn all about the importance of fire safety with Fire & Life
  Safety Technician Fiona Albertson.
X-WR-RELCALID:faff80cedb971cbf8c7b33d38044892a
X-WR-TIMEZONE:America/New_York
BEGIN:VTIMEZONE
TZID:America/New_York
BEGIN:STANDARD
TZNAME:EST
DTSTART:20241103T020000
TZOFFSETFROM:-0400
TZOFFSETTO:-0500
RDATE:20251102T020000
RDATE:20261101T020000
END:STANDARD
BEGIN:DAYLIGHT
TZNAME:EDT
DTSTART:20250309T020000
TZOFFSETFROM:-0500
TZOFFSETTO:-0400
RDATE:20260308T020000
END:DAYLIGHT
END:VTIMEZONE
BEGIN:VEVENT
UID:38d4de8b-1297-4a5a-ae35-ea10355268e4
DTSTAMP:20260420T005555Z
DESCRIPTION:Children of all ages and their caregivers will enjoy a special 
 Fire Safety Story Time with the Rockingham County Department of Fire & Res
 cue! We'll learn all about the importance of fire safety with Fire & Life 
 Safety Technician Fiona Albertson.
DTSTART;TZID=America/New_York:20250714T103000
DTEND;TZID=America/New_York:20250714T113000
LOCATION:Elkton Downtown Marketplace\, 158 W Spotswood Ave\, Elkton\, VA 22
 827 US
SUMMARY:Fire Safety Story Time @Elkton Downtown Marketplace
END:VEVENT
END:VCALENDAR
