BEGIN:VCALENDAR
VERSION:2.0
PRODID:-//mrlib.org//NONSGML kigkonsult.se iCalcreator 2.30.10//
CALSCALE:GREGORIAN
METHOD:PUBLISH
UID:9f1450d4-586e-49e6-8c96-5b6e95c4d217
X-WR-CALDESC:Children of all ages and their caregivers will enjoy books and
  songs with players from the New Market Rebels Baseball team! Bring your b
 aseball and autograph book to collect player signatures.
X-WR-RELCALID:6d0df1c53ac750c030aa40bfa4936029
X-WR-TIMEZONE:America/New_York
BEGIN:VTIMEZONE
TZID:America/New_York
BEGIN:STANDARD
TZNAME:EST
DTSTART:20241103T020000
TZOFFSETFROM:-0400
TZOFFSETTO:-0500
RDATE:20251102T020000
RDATE:20261101T020000
END:STANDARD
BEGIN:DAYLIGHT
TZNAME:EDT
DTSTART:20250309T020000
TZOFFSETFROM:-0500
TZOFFSETTO:-0400
RDATE:20260308T020000
END:DAYLIGHT
END:VTIMEZONE
BEGIN:VEVENT
UID:4789f59f-cc55-4aff-bf4f-ed726ea81fd1
DTSTAMP:20260420T005555Z
DESCRIPTION:Children of all ages and their caregivers will enjoy books and 
 songs with players from the New Market Rebels Baseball team! Bring your ba
 seball and autograph book to collect player signatures.
DTSTART;TZID=America/New_York:20250714T103000
DTEND;TZID=America/New_York:20250714T110000
LOCATION:Page Public Library\, 100 Zerkel Street\, Luray\, VA 22835 US
SUMMARY:Story Time with the New Market Rebels @Page Public Library
END:VEVENT
END:VCALENDAR
