BEGIN:VCALENDAR
VERSION:2.0
PRODID:-//mrlib.org//NONSGML kigkonsult.se iCalcreator 2.30.10//
CALSCALE:GREGORIAN
METHOD:PUBLISH
UID:9a2897ea-c432-4069-a766-9414c3ea9eb6
X-WR-CALDESC:Kids ages 9-11: join Meagan Dyer with the Page County 4-H Club
  as she teaches us how to make delicious recipes! Miss Stephani will also 
 read us a story from a fun cooking book. Registration is required\, so cli
 ck the 'Register Now' button and make sure to list any food allergies on t
 he form!
X-WR-RELCALID:fe449c3d96e17e206eb03ab921c22840
X-WR-TIMEZONE:America/New_York
BEGIN:VTIMEZONE
TZID:America/New_York
BEGIN:STANDARD
TZNAME:EST
DTSTART:20241103T020000
TZOFFSETFROM:-0400
TZOFFSETTO:-0500
RDATE:20251102T020000
RDATE:20261101T020000
END:STANDARD
BEGIN:DAYLIGHT
TZNAME:EDT
DTSTART:20250309T020000
TZOFFSETFROM:-0500
TZOFFSETTO:-0400
RDATE:20260308T020000
END:DAYLIGHT
END:VTIMEZONE
BEGIN:VEVENT
UID:151ca0d4-ff43-4687-82e2-25d10b6308fc
DTSTAMP:20260420T004417Z
DESCRIPTION:Kids ages 9-11: join Meagan Dyer with the Page County 4-H Club 
 as she teaches us how to make delicious recipes! Miss Stephani will also r
 ead us a story from a fun cooking book. Registration is required\, so clic
 k the 'Register Now' button and make sure to list any food allergies on th
 e form!
DTSTART;TZID=America/New_York:20250714T150000
DTEND;TZID=America/New_York:20250714T160000
LOCATION:Page Public Library\, 100 Zerkel Street\, Luray\, VA 22835 US
SUMMARY:Cooking Program for Ages 9-11 @Page Public Library
END:VEVENT
END:VCALENDAR
