BEGIN:VCALENDAR
VERSION:2.0
PRODID:-//mrlib.org//NONSGML kigkonsult.se iCalcreator 2.30.10//
CALSCALE:GREGORIAN
METHOD:PUBLISH
UID:cec72318-eef0-42e7-94a7-e8633b2091af
X-WR-CALDESC:REGISTRATION IS FULL - please email Stephani Tusing at smoore@
 mrlib.org to be placed on a waiting list. \n\nKids ages 5-8: join Meagan D
 yer with the Page County 4-H Club as she teaches us how to make delicious 
 recipes! Miss Stephani will also read us a story from a fun cooking book. 
 Registration is required\, so click the 'Register Now' button and make sur
 e to list any food allergies on the form!
X-WR-RELCALID:e3abd55cd14070312f4028effd108818
X-WR-TIMEZONE:America/New_York
BEGIN:VTIMEZONE
TZID:America/New_York
BEGIN:STANDARD
TZNAME:EST
DTSTART:20241103T020000
TZOFFSETFROM:-0400
TZOFFSETTO:-0500
RDATE:20251102T020000
RDATE:20261101T020000
END:STANDARD
BEGIN:DAYLIGHT
TZNAME:EDT
DTSTART:20250309T020000
TZOFFSETFROM:-0500
TZOFFSETTO:-0400
RDATE:20260308T020000
END:DAYLIGHT
END:VTIMEZONE
BEGIN:VEVENT
UID:dc9d76c4-583e-4afa-ab62-147aa9cadd09
DTSTAMP:20260420T004430Z
DESCRIPTION:REGISTRATION IS FULL - please email Stephani Tusing at smoore@m
 rlib.org to be placed on a waiting list. \n\nKids ages 5-8: join Meagan Dy
 er with the Page County 4-H Club as she teaches us how to make delicious r
 ecipes! Miss Stephani will also read us a story from a fun cooking book. R
 egistration is required\, so click the 'Register Now' button and make sure
  to list any food allergies on the form!
DTSTART;TZID=America/New_York:20250714T130000
DTEND;TZID=America/New_York:20250714T140000
LOCATION:Page Public Library\, 100 Zerkel Street\, Luray\, VA 22835 US
SUMMARY:REGISTRATION FULL: Cooking Program for Ages 5-8 @Page Public Librar
 y
END:VEVENT
END:VCALENDAR
