BEGIN:VCALENDAR
VERSION:2.0
PRODID:-//mrlib.org//NONSGML kigkonsult.se iCalcreator 2.30.10//
CALSCALE:GREGORIAN
METHOD:PUBLISH
UID:fe09da3f-8401-489d-a93d-9a7977086ebf
X-WR-CALDESC:Children of all ages and their caregivers will enjoy a special
  Story Time with Chief Weaver of the Broadway Police Department!
X-WR-RELCALID:34dc4cb719b81662556da4dab4112b4d
X-WR-TIMEZONE:America/New_York
BEGIN:VTIMEZONE
TZID:America/New_York
BEGIN:STANDARD
TZNAME:EST
DTSTART:20241103T020000
TZOFFSETFROM:-0400
TZOFFSETTO:-0500
RDATE:20251102T020000
RDATE:20261101T020000
END:STANDARD
BEGIN:DAYLIGHT
TZNAME:EDT
DTSTART:20250309T020000
TZOFFSETFROM:-0500
TZOFFSETTO:-0400
RDATE:20260308T020000
END:DAYLIGHT
END:VTIMEZONE
BEGIN:VEVENT
UID:295bcfc3-2d9b-443e-b803-11c995938ea9
DTSTAMP:20260420T005535Z
DESCRIPTION:Children of all ages and their caregivers will enjoy a special 
 Story Time with Chief Weaver of the Broadway Police Department!
DTSTART;TZID=America/New_York:20250717T100000
DTEND;TZID=America/New_York:20250717T103000
LOCATION:Village Library\, 175 N. Main Street\, Broadway\, VA 22815 US
SUMMARY:Story Time with Chief Weaver @Village Library
END:VEVENT
END:VCALENDAR
