BEGIN:VCALENDAR
VERSION:2.0
PRODID:-//mrlib.org//NONSGML kigkonsult.se iCalcreator 2.30.10//
CALSCALE:GREGORIAN
METHOD:PUBLISH
UID:7cc4bb3a-eb75-4a5e-8a44-5e509e7758bd
X-WR-CALDESC:Children of all ages and their caregivers will enjoy books and
  songs with players from the Harrisonburg Turks Baseball team! Bring your 
 baseball and autograph book to collect player signatures.
X-WR-RELCALID:5bb03a1b294b1cc84695125db718665a
X-WR-TIMEZONE:America/New_York
BEGIN:VTIMEZONE
TZID:America/New_York
BEGIN:STANDARD
TZNAME:EST
DTSTART:20241103T020000
TZOFFSETFROM:-0400
TZOFFSETTO:-0500
RDATE:20251102T020000
RDATE:20261101T020000
END:STANDARD
BEGIN:DAYLIGHT
TZNAME:EDT
DTSTART:20250309T020000
TZOFFSETFROM:-0500
TZOFFSETTO:-0400
RDATE:20260308T020000
END:DAYLIGHT
END:VTIMEZONE
BEGIN:VEVENT
UID:c74d00c5-d1c3-48ce-9836-fb73435be799
DTSTAMP:20260420T005559Z
DESCRIPTION:Children of all ages and their caregivers will enjoy books and 
 songs with players from the Harrisonburg Turks Baseball team! Bring your b
 aseball and autograph book to collect player signatures.
DTSTART;TZID=America/New_York:20250717T101500
DTEND;TZID=America/New_York:20250717T104500
LOCATION:North River Library\, 118 Mt. Crawford Avenue\, Bridgewater\, VA 2
 2812 US
SUMMARY:Story Time with the Harrisonburg Turks @North River Library
END:VEVENT
END:VCALENDAR
