BEGIN:VCALENDAR
VERSION:2.0
PRODID:-//mrlib.org//NONSGML kigkonsult.se iCalcreator 2.30.10//
CALSCALE:GREGORIAN
METHOD:PUBLISH
UID:fd23f7b6-8f12-4fbf-8dec-1add95a1841b
X-WR-CALDESC:Enjoy singing\, reading\, and more at a special Story Time wit
 h American Sign Language (ASL) Interpreter Melissa Nguyen!\n\nMelissa Nguy
 en is a passionate interpreter with a talent for making communication acce
 ssible to all. She teaches sign language with a focus on empowering famili
 es and caregivers to connect with nonverbal children. Her approach blends 
 practical vocabulary\, real-life scenarios\, and inclusive communication t
 ools\, helping students build confidence and connection through signing.
X-WR-RELCALID:5aa02092dde04813829b9e644ba86e9e
X-WR-TIMEZONE:America/New_York
BEGIN:VTIMEZONE
TZID:America/New_York
BEGIN:STANDARD
TZNAME:EST
DTSTART:20241103T020000
TZOFFSETFROM:-0400
TZOFFSETTO:-0500
RDATE:20251102T020000
RDATE:20261101T020000
END:STANDARD
BEGIN:DAYLIGHT
TZNAME:EDT
DTSTART:20250309T020000
TZOFFSETFROM:-0500
TZOFFSETTO:-0400
RDATE:20260308T020000
END:DAYLIGHT
END:VTIMEZONE
BEGIN:VEVENT
UID:bec44d41-0c07-440b-8900-d94ea72a2eaf
DTSTAMP:20260420T010746Z
DESCRIPTION:Enjoy singing\, reading\, and more at a special Story Time with
  American Sign Language (ASL) Interpreter Melissa Nguyen!\n\nMelissa Nguye
 n is a passionate interpreter with a talent for making communication acces
 sible to all. She teaches sign language with a focus on empowering familie
 s and caregivers to connect with nonverbal children. Her approach blends p
 ractical vocabulary\, real-life scenarios\, and inclusive communication to
 ols\, helping students build confidence and connection through signing.
DTSTART;TZID=America/New_York:20250717T110000
DTEND;TZID=America/New_York:20250717T120000
LOCATION:Central Library\, 174 S. Main Street\, Harrisonburg\, VA 22801 US
SUMMARY:Story Time with ASL Interpreter Melissa Nguyen @Central Library
END:VEVENT
END:VCALENDAR
