BEGIN:VCALENDAR
VERSION:2.0
PRODID:-//mrlib.org//NONSGML kigkonsult.se iCalcreator 2.30.10//
CALSCALE:GREGORIAN
METHOD:PUBLISH
UID:e348b2a4-8c16-4561-9b9b-61be1bd45e73
X-WR-CALDESC:Children of all ages and their caregivers will enjoy books and
  songs with players from the Harrisonburg Turks Baseball team! Bring your 
 baseball and autograph book to collect player signatures.
X-WR-RELCALID:2e0a95007c29604516a2326a088f247b
X-WR-TIMEZONE:America/New_York
BEGIN:VTIMEZONE
TZID:America/New_York
BEGIN:STANDARD
TZNAME:EST
DTSTART:20241103T020000
TZOFFSETFROM:-0400
TZOFFSETTO:-0500
RDATE:20251102T020000
RDATE:20261101T020000
END:STANDARD
BEGIN:DAYLIGHT
TZNAME:EDT
DTSTART:20250309T020000
TZOFFSETFROM:-0500
TZOFFSETTO:-0400
RDATE:20260308T020000
END:DAYLIGHT
END:VTIMEZONE
BEGIN:VEVENT
UID:c942b7d4-3da4-4f7f-bf7c-4ead18e84d69
DTSTAMP:20260420T005532Z
DESCRIPTION:Children of all ages and their caregivers will enjoy books and 
 songs with players from the Harrisonburg Turks Baseball team! Bring your b
 aseball and autograph book to collect player signatures.
DTSTART;TZID=America/New_York:20250717T110000
DTEND;TZID=America/New_York:20250717T120000
LOCATION:North River Library\, 118 Mt. Crawford Avenue\, Bridgewater\, VA 2
 2812 US
SUMMARY:Story Time with the Harrisonburg Turks @North River Library
END:VEVENT
END:VCALENDAR
