BEGIN:VCALENDAR
VERSION:2.0
PRODID:-//mrlib.org//NONSGML kigkonsult.se iCalcreator 2.30.10//
CALSCALE:GREGORIAN
METHOD:PUBLISH
UID:e5a24d28-96fd-4514-a05a-669c697927f8
X-WR-CALDESC:Kids can join us every third Saturday of the month for Crafty 
 Kids! Use your imagination to create a different craft each month.
X-WR-RELCALID:949c817ec88cf1b9bd5d61c4064b23fb
X-WR-TIMEZONE:America/New_York
BEGIN:VTIMEZONE
TZID:America/New_York
BEGIN:STANDARD
TZNAME:EST
DTSTART:20241103T020000
TZOFFSETFROM:-0400
TZOFFSETTO:-0500
RDATE:20251102T020000
RDATE:20261101T020000
END:STANDARD
BEGIN:DAYLIGHT
TZNAME:EDT
DTSTART:20250309T020000
TZOFFSETFROM:-0500
TZOFFSETTO:-0400
RDATE:20260308T020000
END:DAYLIGHT
END:VTIMEZONE
BEGIN:VEVENT
UID:bdc8af90-eb0c-4e60-b5f6-d8dae38a4541
DTSTAMP:20260420T005013Z
DESCRIPTION:Kids can join us every third Saturday of the month for Crafty K
 ids! Use your imagination to create a different craft each month.
DTSTART;TZID=America/New_York:20250719T110000
DTEND;TZID=America/New_York:20250719T120000
LOCATION:North River Library\, 118 Mt. Crawford Avenue\, Bridgewater\, VA 2
 2812 US
SUMMARY:Crafty Kids @North River Library
END:VEVENT
END:VCALENDAR
