BEGIN:VCALENDAR
VERSION:2.0
PRODID:-//mrlib.org//NONSGML kigkonsult.se iCalcreator 2.30.10//
CALSCALE:GREGORIAN
METHOD:PUBLISH
UID:dbca6d36-af0a-49e4-bd17-00147439d2e9
X-WR-CALDESC:Join us for a special Story Time adventure that's full steam a
 head into fun! In collaboration with the Town of Shenandoah Museum\, we're
  bringing the magic of trains to life with All Aboard the Reading Railroad
 . A representative from Norfolk Southern Railroad will read a selection of
  delightful train-themed books\, perfect for young railroad enthusiasts! A
 fter Story Time\, kids can get creative with a hands-on train craft to tak
 e home. Celebrate the rich history of our region and encourage a love of r
 eading in young children!
X-WR-RELCALID:a81d1aeeb84cdae76170709cc5ceb39b
X-WR-TIMEZONE:America/New_York
BEGIN:VTIMEZONE
TZID:America/New_York
BEGIN:STANDARD
TZNAME:EST
DTSTART:20241103T020000
TZOFFSETFROM:-0400
TZOFFSETTO:-0500
RDATE:20251102T020000
RDATE:20261101T020000
END:STANDARD
BEGIN:DAYLIGHT
TZNAME:EDT
DTSTART:20250309T020000
TZOFFSETFROM:-0500
TZOFFSETTO:-0400
RDATE:20260308T020000
END:DAYLIGHT
END:VTIMEZONE
BEGIN:VEVENT
UID:10e90dfd-7501-44ba-8c6c-83581670d245
DTSTAMP:20260420T005533Z
DESCRIPTION:Join us for a special Story Time adventure that's full steam ah
 ead into fun! In collaboration with the Town of Shenandoah Museum\, we're 
 bringing the magic of trains to life with All Aboard the Reading Railroad.
  A representative from Norfolk Southern Railroad will read a selection of 
 delightful train-themed books\, perfect for young railroad enthusiasts! Af
 ter Story Time\, kids can get creative with a hands-on train craft to take
  home. Celebrate the rich history of our region and encourage a love of re
 ading in young children!
DTSTART;TZID=America/New_York:20250719T140000
DTEND;TZID=America/New_York:20250719T150000
LOCATION:Town of Shenandoah Museum\, 507 First St.\, Shenandoah\, VA 22849 
 US
SUMMARY:All Aboard the Reading Railroad @Town of Shenandoah Museum
END:VEVENT
END:VCALENDAR
