BEGIN:VCALENDAR
VERSION:2.0
PRODID:-//mrlib.org//NONSGML kigkonsult.se iCalcreator 2.30.10//
CALSCALE:GREGORIAN
METHOD:PUBLISH
UID:12ac7aa5-1691-4c6b-ad47-83a39c1d8d25
X-WR-CALDESC:K-5 kids: learn about bats with the Bat Conservation & Rescue 
 of Virginia\, explore how pollinators help plants grow\, and create your v
 ery own bat\, bee\, or butterfly to take home! \n\nBat Conservation & Resc
 ue of Virginia is a 501(c)(3) public charity located in Mount Solon\, Virg
 inia. It strives to conserve native bat species in Virginia and beyond by 
 engaging\, empowering\, and educating people of all ages and abilities to 
 ensure the future of Virginia's bats and preserve their habitats.
X-WR-RELCALID:07c5ecf2aaadbbe42238564a730430e3
X-WR-TIMEZONE:America/New_York
BEGIN:VTIMEZONE
TZID:America/New_York
BEGIN:STANDARD
TZNAME:EST
DTSTART:20241103T020000
TZOFFSETFROM:-0400
TZOFFSETTO:-0500
RDATE:20251102T020000
RDATE:20261101T020000
END:STANDARD
BEGIN:DAYLIGHT
TZNAME:EDT
DTSTART:20250309T020000
TZOFFSETFROM:-0500
TZOFFSETTO:-0400
RDATE:20260308T020000
END:DAYLIGHT
END:VTIMEZONE
BEGIN:VEVENT
UID:e0aeb15e-de70-4c9a-9360-5589fa24fcdd
DTSTAMP:20260420T004431Z
DESCRIPTION:K-5 kids: learn about bats with the Bat Conservation & Rescue o
 f Virginia\, explore how pollinators help plants grow\, and create your ve
 ry own bat\, bee\, or butterfly to take home! \n\nBat Conservation & Rescu
 e of Virginia is a 501(c)(3) public charity located in Mount Solon\, Virgi
 nia. It strives to conserve native bat species in Virginia and beyond by e
 ngaging\, empowering\, and educating people of all ages and abilities to e
 nsure the future of Virginia's bats and preserve their habitats.
DTSTART;TZID=America/New_York:20250719T130000
DTEND;TZID=America/New_York:20250719T140000
LOCATION:Central Library\, 174 S. Main Street\, Harrisonburg\, VA 22801 US
SUMMARY:Bats\, Bees\, and Butterflies @Central Library
END:VEVENT
END:VCALENDAR
